{"text_format":"1","workbook":"xlsx","n_sheets":22,"sheets":["Лог обновления","Титульный","Форма 3.1","Форма 3.1 (кварталы)","Форма 16","Субабоненты","Субабоненты (кварталы)","TEHSHEET","modProv","et_union_hor","modReestr","modfrmReestr","AllSheetsInThisWorkbook","REESTR_ORG","modClassifierValidate","modHyp","modList00","modList03","modList04","modInstruction","modUpdTemplMain","modfrmCheckUpdates"],"not_rendered":{"charts":0,"images":3,"macros":1,"external_links":0,"defined_names":38,"comments":0,"pivot_tables":0},"unopened":[],"bounds":{"document_bytes":16777216,"sheet_cells":100000,"rows_first":2000,"rows_last":500,"rows_between":2000,"halvings":0,"cell_chars":16384,"cell_head_chars":4096},"cells_cut":0,"cells_raw":0,"read":"whole","date_system":"1900"}

{"sheet":"Лог обновления","index":0,"n_rows":15,"n_cols":3,"rows_kept":15,"cut":false,"hidden":true,"merged":[]}
["Дата/Время","Сообщение","Статус"]
["2014-03-04T10:21:30","Проверка доступных обновлений...","Информация"]
["2014-03-04T10:21:30","Нет доступных обновлений для шаблона с кодом FORM3.1.2015!","Информация"]
["2014-04-01T10:14:52","Проверка доступных обновлений...","Информация"]
["2014-04-01T10:15:06","Версия шаблона 1.0.1 актуальна, обновление не требуется","Информация"]
["2014-04-01T11:24:07","Проверка доступных обновлений...","Информация"]
["2014-04-01T11:24:08","Версия шаблона 1.0.1 актуальна, обновление не требуется","Информация"]
["2014-04-01T15:09:23","Проверка доступных обновлений...","Информация"]
["2014-04-01T15:09:24","Версия шаблона 1.0.1 актуальна, обновление не требуется","Информация"]
["2014-04-01T15:38:11","Проверка доступных обновлений...","Информация"]
["2014-04-01T15:38:12","Версия шаблона 1.0.1 актуальна, обновление не требуется","Информация"]
["2014-04-02T11:27:50","Проверка доступных обновлений...","Информация"]
["2014-04-02T11:27:51","Версия шаблона 1.0.1 актуальна, обновление не требуется","Информация"]
["2014-04-03T09:12:52","Проверка доступных обновлений...","Информация"]
["2014-04-03T09:12:54","Версия шаблона 1.0.1 актуальна, обновление не требуется","Информация"]

{"sheet":"Титульный","index":1,"n_rows":27,"n_cols":6,"rows_kept":27,"cut":false,"hidden":false,"merged":[[4,4,4,5]]}
[]
[]
[]
[null,null,null,null,null,{"$f":"version","v":{"$error":"#REF!"}}]
[null,null,null,null,"Предложения сетевой компании по технологическому расходу электроэнергии (мощности) - потерям в электрических сетях"]
[]
[null,null,null,null,"Субъект РФ","Челябинская область"]
[]
[null,null,null,null,"Период регулирования",2015]
[]
[null,null,null,null,"Наименование организации","ООО \"Электросетевая компания\""]
[null,null,null,null,"ИНН","7417014880"]
[null,null,null,null,"КПП","741701001"]
[null,null,null,null,null,"Адрес организации"]
[null,null,null,null,"Юридический адрес","456910, г. Сатка, ул. 50 лет Октября, д.22"]
[null,null,null,null,"Почтовый адрес","456910, г. Сатка, ул. 50 лет Октября, д.22"]
[null,null,null,null,null,"Руководитель"]
[null,null,null,null,"Фамилия, имя, отчество","Данилов Евгений Вячеславович"]
[null,null,null,null,"Должность","Генеральный директор"]
[null,null,null,null,null,"Главный бухгалтер"]
[null,null,null,null,"Фамилия, имя, отчество","Коробкова Мария Александровна"]
[null,null,null,null,"Должность","Главный бухгалтер"]
[null,null,null,null,null,"Должностное лицо, ответственное за составление формы"]
[null,null,null,null,"Фамилия, имя, отчество","Деева Марина Евгеньевна"]
[null,null,null,null,"Должность","экономист"]
[null,null,null,null,"Контактный телефон","8 (35161) 3-19-38"]
[null,null,null,null,"e-mail","elkompaniya@ya.ru"]

{"sheet":"Форма 3.1","index":2,"n_rows":41,"n_cols":22,"rows_kept":41,"cut":false,"hidden":false,"merged":[[40,12,40,15],[38,12,38,15],[7,3,7,9],[41,3,41,6],[40,3,40,10],[38,3,38,6]]}
[null,0,0,0,{"$f":"god","v":2015},null,"Год","Год","Год","Январь","Февраль","Март","Апрель","Май","Июнь","Июль","Август","Сентябрь","Октябрь","Ноябрь","Декабрь","Год"]
[null,null,null,null,null,null,{"$f":"$E$1-2","v":2013},{"$f":"$E$1-2","v":2013},{"$f":"$E$1-1","v":2014},{"$f":"$E$1","v":2015},2015,2015,2015,2015,2015,2015,2015,2015,2015,2015,2015,2015]
[null,null,null,null,null,null,"План","Факт","План","План","План","План","План","План","План","План","План","План","План","План","План","План"]
[]
[]
[]
[null,null,null,null,null,null,null,null,null,null,null,null,null,null,null,null,null,null,null,null,null,"Форма 3.1"]
[null,null,null,{"$f":"\"Предложения \"  & org & \" по технологическому расходу электроэнергии (мощности) - потерям в электрических сетях на \"& god &\" год в регионе: \"&region_name","v":"Предложения ООО \"Электросетевая компания\" по технологическому расходу электроэнергии (мощности) - потерям в электрических сетях на 2015 год в регионе: Челябинская область"}]
[]
[null,null,null,"№ п/п","Наименование","Ед. изм.",{"$f":"G3&\" \"&G2&\" \"&G1","v":"План 2013 Год"},"Факт 2013 Год","План 2014 Год","План 2015 Январь","План 2015 Февраль","План 2015 Март","План 2015 Апрель","План 2015 Май","План 2015 Июнь","План 2015 Июль","План 2015 Август","План 2015 Сентябрь","План 2015 Октябрь","План 2015 Ноябрь","План 2015 Декабрь","План 2015 Год"]
[null,null,null,1,2,3,4,5,6,7,8,9,10,11,12,13,14,15,16,17,18,19]
[null,null,null,null,"Электроэнергия"]
["L1","Отпуск в сеть-энергия",null,1,"Поступление в сеть","млн.кВтч",284.52999999999997,221.34100000000001,250.74894,16.27,18.41,21.33,20.57,21.09,17.190000000000001,15.56,16.28,18.41,21.33,20.57,21.09,{"$f":"SUM(J13:U13)","v":228.1}]
["L2","Потери в электрической сети -энергия",null,2,"Потери в электрической сети, в т.ч. относимые на:","млн.кВтч",{"$f":"SUM(G15:G16)","v":5.87},4.4359999999999999,5.6445999999999996,0.34799999999999998,0.38500000000000001,0.45700000000000002,0.442,0.45200000000000001,0.34799999999999998,0.34499999999999997,0.34799999999999998,0.38500000000000001,0.45700000000000002,0.442,0.45,{"$f":"SUM(J14:U14)","v":4.859}]
["L2.1","собственное потребление",null,"2.1","собственное потребление","млн.кВтч",null,null,null,null,null,null,null,null,null,null,null,null,null,null,null,{"$f":"SUM(J15:U15)","v":0}]
["L2.2","передачу сторонним потребителям (субабонентам)",null,"2.2","передачу сторонним потребителям (субабонентам)","млн.кВтч",5.87,4.4359999999999999,5.6445999999999996,0.34799999999999998,0.38500000000000001,0.45700000000000002,0.442,0.45200000000000001,0.34799999999999998,0.34499999999999997,0.34799999999999998,0.38500000000000001,0.45700000000000002,0.442,0.45,{"$f":"SUM(J16:U16)","v":4.859}]
["L3","Относительные потери-энергия",null,3,"Относительные потери","%",{"$f":"IF(G13=0,0,G14/G13*100)","v":2.063051347836784},2.0041474466998883,2.251096255880483,2.1389059618930548,2.0912547528517114,2.142522269104548,2.1487603305785123,2.1431958274063536,2.0244328097731237,2.2172236503856038,2.1375921375921374,2.0912547528517114,2.142522269104548,2.1487603305785123,2.1337126600284497,2.1302060499780797]
["L4","Полезный отпуск-энергия",null,4,"Отпуск из сети (полезный отпуск ), в т.ч. для","млн.кВтч",{"$f":"G13-G14","v":278.65999999999997},216.905,245.10434000000001,15.921999999999999,18.024999999999999,20.872999999999998,20.128,20.637999999999998,16.842000000000002,15.215,15.932,18.024999999999999,20.872999999999998,20.128,20.64,{"$f":"SUM(J18:U18)","v":223.24099999999999}]
["L4.1","собственного потребления",null,"4.1","собственного потребления","млн.кВтч",null,null,null,null,null,null,null,null,null,null,null,null,null,null,null,{"$f":"SUM(J19:U19)","v":0}]
["L4.2","передачи сторонним потребителям (субабонентам)",null,"4.2","передачи сторонним потребителям (субабонентам)","млн.кВтч",278.66000000000003,216.905,245.10434000000001,15.922000000000001,18.024999999999999,20.873000000000001,20.128,20.638000000000002,16.841999999999999,15.215,15.932,18.024999999999999,20.837,20.128,20.64,{"$f":"SUM(J20:U20)","v":223.20499999999998}]
[null,null,null,null,"Мощность"]
["L5","Отпуск в сеть-энергия",null,"5","Поступление в сеть","МВт",40.49,31.4986,35.68,27.261438536012157,34.152198931345971,35.739796187654534,35.615246192596864,35.337660646865174,29.763056978645604,26.071787561176961,27.27819418354505,31.875385629835115,35.739796187654534,35.615246192596864,35.337660646865174,{"$f":"SUM(J22:U22)/12","v":32.482288989566165}]
["L6","Потери в электрической сети -энергия",null,"6","Потери в электрической сети, в т.ч. относимые на:","МВт",{"$f":"SUM(G24:G25)","v":0.84},0.63139999999999996,0.8,0.58309653414457463,0.71420948335514389,0.76573309225307662,0.7652862818243954,0.75735526848663159,0.60253309066717098,0.57806983988470761,0.58309653414457463,0.66659551697373809,0.76573309225307662,0.7652862818243954,0.75400413898005358,0.6917499295659616]
["L6.1","собственное потребление",null,"6.1","собственное потребление","МВт",null,null,null,null,null,null,null,null,null,null,null,null,null,null,null,{"$f":"SUM(J24:U24)/12","v":0}]
["L6.2","передачу сторонним потребителям (субабонентам)",null,"6.2","передачу сторонним потребителям (субабонентам)","МВт",0.84,0.63139999999999996,0.8,0.58309653414457463,0.71420948335514389,0.76573309225307662,0.7652862818243954,0.75735526848663159,0.60253309066717098,0.57806983988470761,0.58309653414457463,0.66659551697373809,0.76573309225307662,0.7652862818243954,0.75400413898005358,{"$f":"SUM(J25:U25)/12","v":0.6917499295659616}]
["L7","Относительные потери-энергия",null,"7","Относительные потери","%",{"$f":"IF(G22=0,0,G23/G22*100)","v":2.074586317609286},2.0045335348237701,2.2421524663677133,2.1389059618930544,2.0912547528517114,2.142522269104548,2.1487603305785123,2.1431958274063541,2.0244328097731237,2.2172236503856038,2.137592137592137,2.0912547528517109,2.142522269104548,2.1487603305785123,2.1337126600284497,2.1296218680529653]
["L8","Полезный отпуск-энергия",null,"8","Отпуск из сети (полезный отпуск), в т.ч. для","МВт",{"$f":"G22-G23","v":39.65},30.8672,34.880000000000003,26.678342001867584,33.43798944799083,34.974063095401455,34.849959910772469,34.58030537837854,29.160523887978432,25.493717721292253,26.695097649400477,31.208790112861376,34.974063095401455,34.849959910772469,34.583656507885124,{"$f":"SUM(J27:U27)/12","v":31.790539060000199}]
["L8.1","собственного потребления",null,"8.1","собственного потребления","МВт",null,null,null,null,null,null,null,null,null,null,null,null,null,null,null,{"$f":"SUM(J28:U28)/12","v":0}]
["L8.2","передачи сторонним потребителям (субабонентам)",null,"8.2","передачи сторонним потребителям (субабонентам)","МВт",39.65,30.8672,34.880000000000003,26.678342001867584,33.43798944799083,34.974063095401455,34.849959910772469,34.58030537837854,29.160523887978432,25.493717721292253,26.695097649400477,31.208790112861376,34.974063095401455,34.849959910772469,34.583656507885124,{"$f":"SUM(J29:U29)/12","v":31.790539060000199}]
["L9","Заявленная мощность потребителей",null,"9","Заявленная мощность ","МВт",{"$f":"SUM(G31:G32)","v":40.49},31.4986,35.68,27.261399999999998,34.152200000000001,35.739800000000002,35.615200000000002,35.337699999999998,29.763100000000001,26.0718,27.278199999999998,31.875399999999999,35.739800000000002,35.615200000000002,35.337699999999998,32.482291666666661]
["L9.1","собственное потребление",null,"9.1","собственное потребление","МВт",null,null,null,null,null,null,null,null,null,null,null,null,null,null,null,{"$f":"SUM(J31:U31)/12","v":0}]
["L9.2","сторонних потребителей (субабонентов)",null,"9.2","сторонних потребителей (субабонентов)","МВт",{"$f":"Субабоненты!H13","v":40.49},{"$f":"Субабоненты!I13","v":31.4986},{"$f":"Субабоненты!J13","v":35.68},{"$f":"Субабоненты!K13","v":27.261399999999998},{"$f":"Субабоненты!L13","v":34.152200000000001},{"$f":"Субабоненты!M13","v":35.739800000000002},{"$f":"Субабоненты!N13","v":35.615200000000002},{"$f":"Субабоненты!O13","v":35.337699999999998},{"$f":"Субабоненты!P13","v":29.763100000000001},{"$f":"Субабоненты!Q13","v":26.0718},{"$f":"Субабоненты!R13","v":27.278199999999998},{"$f":"Субабоненты!S13","v":31.875399999999999},{"$f":"Субабоненты!T13","v":35.739800000000002},{"$f":"Субабоненты!U13","v":35.615200000000002},{"$f":"Субабоненты!V13","v":35.337699999999998},{"$f":"Субабоненты!W13","v":32.482291666666661}]
["L10","Присоединенная мощность потребителей",null,"10","Присоединенная мощность ","МВА",{"$f":"SUM(G34:G35)","v":188.5},188.5,188.5,188.5,188.5,188.5,188.5,188.5,188.5,188.5,188.5,188.5,188.5,188.5,188.5,188.5]
["L10.1","собственное потребление",null,"10.1","собственное потребление","МВА",null,null,null,null,null,null,null,null,null,null,null,null,null,null,null,{"$f":"MAX(J34:U34)","v":0}]
["L10.2","сторонних потребителей (субабонентов)",null,"10.2","сторонних потребителей (субабонентов)","МВА",{"$f":"Субабоненты!H14","v":188.5},{"$f":"Субабоненты!I14","v":188.5},{"$f":"Субабоненты!J14","v":188.5},{"$f":"Субабоненты!K14","v":188.5},{"$f":"Субабоненты!L14","v":188.5},{"$f":"Субабоненты!M14","v":188.5},{"$f":"Субабоненты!N14","v":188.5},{"$f":"Субабоненты!O14","v":188.5},{"$f":"Субабоненты!P14","v":188.5},{"$f":"Субабоненты!Q14","v":188.5},{"$f":"Субабоненты!R14","v":188.5},{"$f":"Субабоненты!S14","v":188.5},{"$f":"Субабоненты!T14","v":188.5},{"$f":"Субабоненты!U14","v":188.5},{"$f":"Субабоненты!V14","v":188.5},{"$f":"Субабоненты!W14","v":188.5}]
[]
[]
[]
[null,null,null,"Руководитель организации                                                       "]
[]
[null,null,null,"Руководитель органа исполнительной власти субъекта Российской Федерации в области государственного регулирования тарифов"]

{"sheet":"Форма 3.1 (кварталы)","index":3,"n_rows":41,"n_cols":10,"rows_kept":41,"cut":false,"hidden":false,"merged":[[7,3,7,9],[41,3,41,6],[38,6,38,9],[40,6,40,9],[38,3,38,5],[40,3,40,5]]}
[null,0,0,0,{"$f":"god","v":2015},null,"Год","Год","Год","Январь"]
[null,null,null,null,null,null,{"$f":"$E$1-2","v":2013},{"$f":"$E$1-2","v":2013},{"$f":"$E$1-1","v":2014},{"$f":"$E$1","v":2015}]
[null,null,null,null,null,null,"План","Факт","План","План"]
[]
[]
[]
[]
[null,null,null,{"$f":"\"Предложения \"  & org & \" по технологическому расходу электроэнергии (мощности) - потерям в электрических сетях на \"& god &\" год в регионе: \"&region_name & \" (поквартально)\"","v":"Предложения ООО \"Электросетевая компания\" по технологическому расходу электроэнергии (мощности) - потерям в электрических сетях на 2015 год в регионе: Челябинская область (поквартально)"}]
[]
[null,null,null,"№ п/п","Наименование","Ед. изм.",{"$f":"\"I квартал \" & god","v":"I квартал 2015"},{"$f":"\"II квартал \" & god","v":"II квартал 2015"},{"$f":"\"III квартал \" & god","v":"III квартал 2015"},{"$f":"\"IV квартал \" & god","v":"IV квартал 2015"}]
[null,null,null,1,2,3,4,5,6,7]
[null,null,null,null,"Электроэнергия"]
["L1","Отпуск в сеть-энергия",null,1,"Поступление в сеть","млн.кВтч",{"$f":"SUM('Форма 3.1'!J13:L13)","v":56.01},{"$f":"SUM('Форма 3.1'!M13:O13)","v":58.849999999999994},{"$f":"SUM('Форма 3.1'!P13:R13)","v":50.25},{"$f":"SUM('Форма 3.1'!S13:U13)","v":62.989999999999995}]
["L2","Потери в электрической сети -энергия",null,2,"Потери в электрической сети, в т.ч. относимые на:","млн.кВтч",{"$f":"SUM('Форма 3.1'!J14:L14)","v":1.19},{"$f":"SUM('Форма 3.1'!M14:O14)","v":1.242},{"$f":"SUM('Форма 3.1'!P14:R14)","v":1.0779999999999998},{"$f":"SUM('Форма 3.1'!S14:U14)","v":1.349}]
["L2.1","собственное потребление",null,"2.1","собственное потребление","млн.кВтч",{"$f":"SUM('Форма 3.1'!J15:L15)","v":0},{"$f":"SUM('Форма 3.1'!M15:O15)","v":0},{"$f":"SUM('Форма 3.1'!P15:R15)","v":0},{"$f":"SUM('Форма 3.1'!S15:U15)","v":0}]
["L2.2","передачу сторонним потребителям (субабонентам)",null,"2.2","передачу сторонним потребителям (субабонентам)","млн.кВтч",{"$f":"SUM('Форма 3.1'!J16:L16)","v":1.19},{"$f":"SUM('Форма 3.1'!M16:O16)","v":1.242},{"$f":"SUM('Форма 3.1'!P16:R16)","v":1.0779999999999998},{"$f":"SUM('Форма 3.1'!S16:U16)","v":1.349}]
["L3","Относительные потери-энергия",null,3,"Относительные потери","%",{"$f":"IF(G13=0,0,G14/G13*100)","v":2.1246206034636672},{"$f":"IF(H13=0,0,H14/H13*100)","v":2.1104502973661852},{"$f":"IF(I13=0,0,I14/I13*100)","v":2.1452736318407957},{"$f":"IF(J13=0,0,J14/J13*100)","v":2.1416097793300524}]
["L4","Полезный отпуск-энергия",null,4,"Отпуск из сети (полезный отпуск ), в т.ч. для","млн.кВтч",{"$f":"SUM('Форма 3.1'!J18:L18)","v":54.819999999999993},{"$f":"SUM('Форма 3.1'!M18:O18)","v":57.608000000000004},{"$f":"SUM('Форма 3.1'!P18:R18)","v":49.171999999999997},{"$f":"SUM('Форма 3.1'!S18:U18)","v":61.640999999999998}]
["L4.1","собственного потребления",null,"4.1","собственного потребления","млн.кВтч",{"$f":"SUM('Форма 3.1'!J19:L19)","v":0},{"$f":"SUM('Форма 3.1'!M19:O19)","v":0},{"$f":"SUM('Форма 3.1'!P19:R19)","v":0},{"$f":"SUM('Форма 3.1'!S19:U19)","v":0}]
["L4.2","передачи сторонним потребителям (субабонентам)",null,"4.2","передачи сторонним потребителям (субабонентам)","млн.кВтч",{"$f":"SUM('Форма 3.1'!J20:L20)","v":54.820000000000007},{"$f":"SUM('Форма 3.1'!M20:O20)","v":57.608000000000004},{"$f":"SUM('Форма 3.1'!P20:R20)","v":49.171999999999997},{"$f":"SUM('Форма 3.1'!S20:U20)","v":61.605000000000004}]
[null,null,null,null,"Мощность"]
["L5","Отпуск в сеть-энергия",null,"5","Поступление в сеть","МВт",{"$f":"SUM('Форма 3.1'!J22:L22)/3","v":32.384477885004223},{"$f":"SUM('Форма 3.1'!M22:O22)/3","v":33.571987939369215},{"$f":"SUM('Форма 3.1'!P22:R22)/3","v":28.408455791519042},{"$f":"SUM('Форма 3.1'!S22:U22)/3","v":35.564234342372195}]
["L6","Потери в электрической сети -энергия",null,"6","Потери в электрической сети, в т.ч. относимые на:","МВт",{"$f":"SUM('Форма 3.1'!J23:L23)/3","v":0.68767970325093175},{"$f":"SUM('Форма 3.1'!M23:O23)/3","v":0.70839154699273266},{"$f":"SUM('Форма 3.1'!P23:R23)/3","v":0.60925396366767348},{"$f":"SUM('Форма 3.1'!S23:U23)/3","v":0.7616745043525085}]
["L6.1","собственное потребление",null,"6.1","собственное потребление","МВт",{"$f":"SUM('Форма 3.1'!J24:L24)/3","v":0},{"$f":"SUM('Форма 3.1'!M24:O24)/3","v":0},{"$f":"SUM('Форма 3.1'!P24:R24)/3","v":0},{"$f":"SUM('Форма 3.1'!S24:U24)/3","v":0}]
["L6.2","передачу сторонним потребителям (субабонентам)",null,"6.2","передачу сторонним потребителям (субабонентам)","МВт",{"$f":"SUM('Форма 3.1'!J25:L25)/3","v":0.68767970325093175},{"$f":"SUM('Форма 3.1'!M25:O25)/3","v":0.70839154699273266},{"$f":"SUM('Форма 3.1'!P25:R25)/3","v":0.60925396366767348},{"$f":"SUM('Форма 3.1'!S25:U25)/3","v":0.7616745043525085}]
["L7","Относительные потери-энергия",null,"7","Относительные потери","%",{"$f":"IF(G22=0,0,G23/G22*100)","v":2.1234855343132302},{"$f":"IF(H22=0,0,H23/H22*100)","v":2.1100673224120148},{"$f":"IF(I22=0,0,I23/I22*100)","v":2.1446218975744467},{"$f":"IF(J22=0,0,J23/J22*100)","v":2.1416867772829535}]
["L8","Полезный отпуск-энергия",null,"8","Отпуск из сети (полезный отпуск), в т.ч. для","МВт",{"$f":"SUM('Форма 3.1'!J27:L27)/3","v":31.696798181753291},{"$f":"SUM('Форма 3.1'!M27:O27)/3","v":32.863596392376479},{"$f":"SUM('Форма 3.1'!P27:R27)/3","v":27.799201827851366},{"$f":"SUM('Форма 3.1'!S27:U27)/3","v":34.802559838019683}]
["L8.1","собственного потребления",null,"8.1","собственного потребления","МВт",{"$f":"SUM('Форма 3.1'!J28:L28)/3","v":0},{"$f":"SUM('Форма 3.1'!M28:O28)/3","v":0},{"$f":"SUM('Форма 3.1'!P28:R28)/3","v":0},{"$f":"SUM('Форма 3.1'!S28:U28)/3","v":0}]
["L8.2","передачи сторонним потребителям (субабонентам)",null,"8.2","передачи сторонним потребителям (субабонентам)","МВт",{"$f":"SUM('Форма 3.1'!J29:L29)/3","v":31.696798181753291},{"$f":"SUM('Форма 3.1'!M29:O29)/3","v":32.863596392376479},{"$f":"SUM('Форма 3.1'!P29:R29)/3","v":27.799201827851366},{"$f":"SUM('Форма 3.1'!S29:U29)/3","v":34.802559838019683}]
["L9","Заявленная мощность потребителей",null,"9","Заявленная мощность ","МВт",{"$f":"SUM('Форма 3.1'!J30:L30)/3","v":32.384466666666668},{"$f":"SUM('Форма 3.1'!M30:O30)/3","v":33.572000000000003},{"$f":"SUM('Форма 3.1'!P30:R30)/3","v":28.408466666666666},{"$f":"SUM('Форма 3.1'!S30:U30)/3","v":35.564233333333334}]
["L9.1","собственное потребление",null,"9.1","собственное потребление","МВт",{"$f":"SUM('Форма 3.1'!J31:L31)/3","v":0},{"$f":"SUM('Форма 3.1'!M31:O31)/3","v":0},{"$f":"SUM('Форма 3.1'!P31:R31)/3","v":0},{"$f":"SUM('Форма 3.1'!S31:U31)/3","v":0}]
["L9.2","сторонних потребителей (субабонентов)",null,"9.2","сторонних потребителей (субабонентов)","МВт",{"$f":"SUM('Форма 3.1'!J32:L32)/3","v":32.384466666666668},{"$f":"SUM('Форма 3.1'!M32:O32)/3","v":33.572000000000003},{"$f":"SUM('Форма 3.1'!P32:R32)/3","v":28.408466666666666},{"$f":"SUM('Форма 3.1'!S32:U32)/3","v":35.564233333333334}]
["L10","Присоединенная мощность потребителей",null,"10","Присоединенная мощность ","МВА",{"$f":"SUM(G34:G35)","v":188.5},{"$f":"SUM(H34:H35)","v":188.5},{"$f":"SUM(I34:I35)","v":188.5},{"$f":"SUM(J34:J35)","v":188.5}]
["L10.1","собственное потребление",null,"10.1","собственное потребление","МВА",{"$f":"MAX('Форма 3.1'!J34:L34)","v":0},{"$f":"MAX('Форма 3.1'!M34:O34)","v":0},{"$f":"MAX('Форма 3.1'!P34:R34)","v":0},{"$f":"MAX('Форма 3.1'!S34:U34)","v":0}]
["L10.2","сторонних потребителей (субабонентов)",null,"10.2","сторонних потребителей (субабонентов)","МВА",{"$f":"MAX('Форма 3.1'!J35:L35)","v":188.5},{"$f":"MAX('Форма 3.1'!M35:O35)","v":188.5},{"$f":"MAX('Форма 3.1'!P35:R35)","v":188.5},{"$f":"MAX('Форма 3.1'!S35:U35)","v":188.5}]
[]
[]
[]
[null,null,null,"Руководитель организации                                                       "]
[]
[null,null,null,"Руководитель органа исполнительной власти субъекта Российской Федерации в области государственного регулирования тарифов"]

{"sheet":"Форма 16","index":4,"n_rows":15,"n_cols":13,"rows_kept":15,"cut":false,"hidden":false,"merged":[[10,3,10,7],[11,11,11,12],[8,3,8,12],[10,8,10,12],[11,8,12,8],[11,9,11,10],[11,3,12,3],[11,4,11,5],[11,6,11,7]]}
[null,null,0,null,0,0,{"$f":"god","v":2015},null,"Год","Год","Год",null,"Январь"]
[null,null,null,null,null,null,null,null,{"$f":"G1-2","v":2013},{"$f":"G1-2","v":2013},{"$f":"G1-1","v":2014},null,{"$f":"$G$1","v":2015}]
[null,null,null,null,null,null,null,null,"План","Факт","План",null,"План"]
[]
[]
[]
[]
[]
[null,null,null,{"$f":"\"Информация по нормативам потерь электрической энергии при передаче по электрическим сетям, утвержденным Минэнерго России по \" &org& \" на \"&god&\" год в регионе: \"&region_name","v":"Информация по нормативам потерь электрической энергии при передаче по электрическим сетям, утвержденным Минэнерго России по ООО \"Электросетевая компания\" на 2015 год в регионе: Челябинская область"}]
[null,null,null,{"$f":"\"Если в \" & god-1 & \" году организация не получала норматив, то укажите год, когда этот норматив был получен в последний раз.\"","v":"Если в 2014 году организация не получала норматив, то укажите год, когда этот норматив был получен в последний раз."}]
[null,null,null,"2013",null,null,null,null,{"$f":"IF(god=\"\",\"(Не определено)\",god)","v":2015}]
[null,null,null,"Отпуск э/энергии в сеть (млн. кВтч)","Норматив потерь электроэнергии",null,"Приказ Минэнерго РФ",null,"Отпуск э/энергии в сеть (млн. кВтч)","Норматив потерь электроэнергии",null,"Приказ Минэнерго РФ"]
[null,null,null,null,"Абсол. величина (млн. кВтч)","%","Дата","Номер",null,"Абсол. величина (млн. кВтч)","%","Дата","Номер"]
[null,null,null,1,2,3,4,5,6,7,8,9,10]
[null,null,null,237.07,5.0495999999999999,2.13,"26.09.2013","655"]

{"sheet":"Субабоненты","index":5,"n_rows":18,"n_cols":23,"rows_kept":18,"cut":false,"hidden":false,"merged":[[15,23,16,23],[12,3,13,4],[8,3,8,6],[15,2,16,2],[15,3,16,3],[15,4,16,4]]}
[null,null,0,null,0,0,{"$f":"god","v":2015},"Год","Год","Год","Январь","Февраль","Март","Апрель","Май","Июнь","Июль","Август","Сентябрь","Октябрь","Ноябрь","Декабрь","Год"]
[null,null,null,null,null,null,null,{"$f":"G1-2","v":2013},{"$f":"G1-2","v":2013},{"$f":"G1-1","v":2014},{"$f":"$G$1","v":2015},2015,2015,2015,2015,2015,2015,2015,2015,2015,2015,2015,2015]
[null,null,null,null,null,null,null,"План","Факт","План","План","План","План","План","План","План","План","План","План","План","План","План","План"]
[]
[]
[null,null,null,null,null,null,null,null,null,null,null,null,null,null,null,null,null,null,null,null,null,null,"Форма 3.1"]
[]
[]
[null,null,null,{"$f":"\"Предложения \"  &org& \" по технологическому расходу электроэнергии (мощности) - потерям в электрических сетях на \"&god&\" год в регионе: \"&region_name","v":"Предложения ООО \"Электросетевая компания\" по технологическому расходу электроэнергии (мощности) - потерям в электрических сетях на 2015 год в регионе: Челябинская область"}]
[]
[null,null,null,"№ п/п","Наименование организации","Показатель","Ед. изм.",{"$f":"H3&\" \"&H2&\" \"&H1","v":"План 2013 Год"},"Факт 2013 Год","План 2014 Год","План 2015 Январь","План 2015 Февраль","План 2015 Март","План 2015 Апрель","План 2015 Май","План 2015 Июнь","План 2015 Июль","План 2015 Август","План 2015 Сентябрь","План 2015 Октябрь","План 2015 Ноябрь","План 2015 Декабрь","План 2015 Год"]
[null,null,null,1,2,3,4,5,6,7,8,9,10,11,12,13,14,15,16,17,18,19,20]
[null,null,null,"Всего",null,"Заявленная мощность потребителей","МВт",{"$f":"SUMIF($F$15:$F$18,\"=\"&$F$13,H15:H18)","v":40.49},31.4986,35.68,27.261399999999998,34.152200000000001,35.739800000000002,35.615200000000002,35.337699999999998,29.763100000000001,26.0718,27.278199999999998,31.875399999999999,35.739800000000002,35.615200000000002,35.337699999999998,32.482291666666661]
[null,null,null,null,null,"Присоединенная мощность потребителей","МВА",{"$f":"SUMIF($F$15:$F$18,\"=\"&$F$14,H15:H18)","v":188.5},188.5,188.5,188.5,188.5,188.5,188.5,188.5,188.5,188.5,188.5,188.5,188.5,188.5,188.5,188.5]
[null,null,null,0]
[null,null,"О",1,"ООО \"Электросетевая компания\"","Заявленная мощность потребителей","МВт",40.49,31.4986,35.68,27.261399999999998,34.152200000000001,35.739800000000002,35.615200000000002,35.337699999999998,29.763100000000001,26.0718,27.278199999999998,31.875399999999999,35.739800000000002,35.615200000000002,35.337699999999998,{"$f":"SUM(K16:V16)/12","v":32.482291666666661}]
[null,null,null,null,null,"Присоединенная мощность потребителей","МВА",188.5,188.5,188.5,188.5,188.5,188.5,188.5,188.5,188.5,188.5,188.5,188.5,188.5,188.5,188.5,{"$f":"MAX(K17:V17)","v":188.5}]
[null,null,null,null,"Добавить организацию"]

{"sheet":"Субабоненты (кварталы)","index":6,"n_rows":17,"n_cols":11,"rows_kept":17,"cut":false,"hidden":false,"merged":[[15,11,16,11],[8,3,8,6],[12,3,13,4],[15,2,16,2],[15,3,16,3],[15,4,16,4]]}
[null,null,0,null,0,0,{"$f":"god","v":2015},"Год","Год","Год","Январь"]
[null,null,null,null,null,null,null,{"$f":"G1-2","v":2013},{"$f":"G1-2","v":2013},{"$f":"G1-1","v":2014},{"$f":"$G$1","v":2015}]
[null,null,null,null,null,null,null,"План","Факт","План","План"]
[]
[]
[]
[]
[]
[null,null,null,{"$f":"\"Предложения \"  &org& \" по технологическому расходу электроэнергии (мощности) - потерям в электрических сетях на \"&god&\" год в регионе: \"&region_name & \" (поквартально)\"","v":"Предложения ООО \"Электросетевая компания\" по технологическому расходу электроэнергии (мощности) - потерям в электрических сетях на 2015 год в регионе: Челябинская область (поквартально)"}]
[]
[null,null,null,"№ п/п","Наименование организации","Показатель","Ед. изм.",{"$f":"\"I квартал \" & god","v":"I квартал 2015"},{"$f":"\"II квартал \" & god","v":"II квартал 2015"},{"$f":"\"III квартал \" & god","v":"III квартал 2015"},{"$f":"\"IV квартал \" & god","v":"IV квартал 2015"}]
[null,null,null,1,2,3,4,5,6,7,8]
[null,null,null,"Всего",null,"Заявленная мощность потребителей","МВт",{"$f":"SUMIF($F$15:$F$18,$F13,H$15:H$18)","v":32.384466666666668},33.572000000000003,28.408466666666666,35.564233333333334]
[null,null,null,null,null,"Присоединенная мощность потребителей","МВА",188.5,188.5,188.5,188.5]
[null,null,null,0]
[null,null,null,{"$f":"Субабоненты!$D$16","v":1},{"$f":"Субабоненты!$E$16","v":"ООО \"Электросетевая компания\""},"Заявленная мощность потребителей","МВт",{"$f":"(Субабоненты!K16+Субабоненты!L16+Субабоненты!M16)/3","v":32.384466666666668},{"$f":"(Субабоненты!N16+Субабоненты!O16+Субабоненты!P16)/3","v":33.572000000000003},{"$f":"(Субабоненты!Q16+Субабоненты!R16+Субабоненты!S16)/3","v":28.408466666666666},{"$f":"(Субабоненты!T16+Субабоненты!U16+Субабоненты!V16)/3","v":35.564233333333334}]
[null,null,null,null,null,"Присоединенная мощность потребителей","МВА",{"$f":"MAX(Субабоненты!K17,Субабоненты!L17,Субабоненты!M17)","v":188.5},{"$f":"MAX(Субабоненты!N17,Субабоненты!O17,Субабоненты!P17)","v":188.5},{"$f":"MAX(Субабоненты!Q17,Субабоненты!R17,Субабоненты!S17)","v":188.5},{"$f":"MAX(Субабоненты!T17,Субабоненты!U17,Субабоненты!V17)","v":188.5}]

{"sheet":"TEHSHEET","index":7,"n_rows":85,"n_cols":2,"rows_kept":85,"cut":false,"hidden":true,"merged":[]}
["REGION","year_list"]
["Алтайский край","2008"]
["Амурская область","2009"]
["Архангельская область","2010"]
["Астраханская область","2011"]
["Белгородская область","2012"]
["Брянская область","2013"]
["Владимирская область","2014"]
["Волгоградская область"]
["Вологодская область"]
["Воронежская область"]
["г.Байконур"]
["г. Москва"]
["г.Санкт-Петербург"]
["Еврейская автономная область"]
["Забайкальский край"]
["Ивановская область"]
["Иркутская область"]
["Кабардино-Балкарская республика"]
["Калининградская область"]
["Калужская область"]
["Камчатский край"]
["Карачаево-Черкесская республика"]
["Кемеровская область"]
["Кировская область"]
["Костромская область"]
["Краснодарский край"]
["Красноярский край"]
["Курганская область"]
["Курская область"]
["Ленинградская область"]
["Липецкая область"]
["Магаданская область"]
["Московская область"]
["Мурманская область"]
["Ненецкий автономный округ"]
["Нижегородская область"]
["Новгородская область"]
["Новосибирская область"]
["Омская область"]
["Оренбургская область"]
["Орловская область"]
["Пензенская область"]
["Пермский край"]
["Приморский край"]
["Псковская область"]
["Республика Адыгея"]
["Республика Алтай"]
["Республика Башкортостан"]
["Республика Бурятия"]
["Республика Дагестан"]
["Республика Ингушетия"]
["Республика Калмыкия"]
["Республика Карелия"]
["Республика Коми"]
["Республика Марий Эл"]
["Республика Мордовия"]
["Республика Саха (Якутия)"]
["Республика Северная Осетия-Алания"]
["Республика Татарстан"]
["Республика Тыва"]
["Республика Хакасия"]
["Ростовская область"]
["Рязанская область"]
["Самарская область"]
["Саратовская область"]
["Сахалинская область"]
["Свердловская область"]
["Смоленская область"]
["Ставропольский край"]
["Тамбовская область"]
["Тверская область"]
["Томская область"]
["Тульская область"]
["Тюменская область"]
["Удмуртская республика"]
["Ульяновская область"]
["Хабаровский край"]
["Ханты-Мансийский автономный округ"]
["Челябинская область"]
["Чеченская республика"]
["Чувашская республика"]
["Чукотский автономный округ"]
["Ямало-Ненецкий автономный округ"]
["Ярославская область"]

{"sheet":"modProv","index":8,"n_rows":0,"n_cols":0,"rows_kept":0,"cut":false,"hidden":true,"merged":[]}

{"sheet":"et_union_hor","index":9,"n_rows":9,"n_cols":23,"rows_kept":9,"cut":false,"hidden":true,"merged":[[2,2,3,2],[2,3,3,3],[2,4,3,4],[2,23,3,23],[7,2,8,2],[7,3,8,3],[7,4,8,4],[7,11,8,11]]}
["et_List04"]
[]
[null,null,null,null,null,"Заявленная мощность потребителей","МВт",null,null,null,null,null,null,null,null,null,null,null,null,null,null,null,{"$f":"SUM(K3:V3)/12","v":0}]
[null,null,null,null,null,"Присоединенная мощность потребителей","МВА",null,null,null,null,null,null,null,null,null,null,null,null,null,null,null,{"$f":"MAX(K4:V4)","v":0}]
[]
["et_List05"]
[]
[null,null,null,null,null,"Заявленная мощность потребителей","МВт",{"$f":"(Субабоненты!K8+Субабоненты!L8+Субабоненты!M8)/3","v":0},{"$f":"(Субабоненты!N8+Субабоненты!O8+Субабоненты!P8)/3","v":0},{"$f":"(Субабоненты!Q8+Субабоненты!R8+Субабоненты!S8)/3","v":0},{"$f":"(Субабоненты!T8+Субабоненты!U8+Субабоненты!V8)/3","v":0}]
[null,null,null,null,null,"Присоединенная мощность потребителей","МВА",{"$f":"MAX(Субабоненты!K9,Субабоненты!L9,Субабоненты!M9)","v":0},{"$f":"MAX(Субабоненты!N9,Субабоненты!O9,Субабоненты!P9)","v":0},{"$f":"MAX(Субабоненты!Q9,Субабоненты!R9,Субабоненты!S9)","v":0},{"$f":"MAX(Субабоненты!T9,Субабоненты!U9,Субабоненты!V9)","v":0}]

{"sheet":"modReestr","index":10,"n_rows":0,"n_cols":0,"rows_kept":0,"cut":false,"hidden":true,"merged":[]}

{"sheet":"modfrmReestr","index":11,"n_rows":0,"n_cols":0,"rows_kept":0,"cut":false,"hidden":true,"merged":[]}

{"sheet":"AllSheetsInThisWorkbook","index":12,"n_rows":16,"n_cols":2,"rows_kept":16,"cut":false,"hidden":true,"merged":[]}
["Расчетные листы","Скрытые листы"]
["Инструкция","TEHSHEET"]
["Лог обновления","modProv"]
["Титульный","et_union_hor"]
["Форма 3.1","modReestr"]
["Форма 3.1 (кварталы)","modfrmReestr"]
["Форма 16","AllSheetsInThisWorkbook"]
["Субабоненты","REESTR_ORG"]
["Субабоненты (кварталы)","modClassifierValidate"]
["Комментарии","modHyp"]
["Проверка","modList00"]
[null,"modList03"]
[null,"modList04"]
[null,"modInstruction"]
[null,"modUpdTemplMain"]
[null,"modfrmCheckUpdates"]

{"sheet":"REESTR_ORG","index":13,"n_rows":111,"n_cols":7,"rows_kept":111,"cut":false,"hidden":true,"merged":[]}
["YEAR","REGION_NAME","ORG_NAME","INN","KPP","DATE_BEGIN","DATE_END"]
[1,"Челябинская область","ЗАО \"Высокотемпературные строительные материалы\"","7451043289","744701001","",""]
[2,"Челябинская область","ЗАО \"ЖБИ-2\"","7449010303","744901001","",""]
[3,"Челябинская область","ЗАО \"Катавский цемент\"","7410005573","741001001","",""]
[4,"Челябинская область","ЗАО \"Литейно-механический завод \"Стройэкс\"","7450005643","745001001","",""]
[5,"Челябинская область","ЗАО \"МиассЭнерго\"","7415055673","741501001","",""]
[6,"Челябинская область","ЗАО \"Саткинский чугуноплавильный завод\"","7417011047","741450001","",""]
[7,"Челябинская область","ЗАО \"Челябинский трубный опытно-экспериментальный завод\"","7449007156","744901001","",""]
[8,"Челябинская область","ЗАО \"Электросеть\"","7714734225","745045002","",""]
[9,"Челябинская область","ЗАО \"Энергосетевая Компания ЧТПЗ\" Разделена от (ОАО  \"Челябинский трубопрокатный завод\")","7449045730","744901001","",""]
[10,"Челябинская область","ЗАО КХП \"Злак\"","7440000090","744001001","",""]
[11,"Челябинская область","ЗАО ЦПТК \"Челябметаллургстрой\"","7450001335","745001001","",""]
[12,"Челябинская область","Завод ЖБИ, ООО","7415043438","741501001","",""]
[13,"Челябинская область","Куйбышевская дирекция по энергообеспечению - структурное подразделение Трансэнерго - филиала ОАО \"РЖД\"","7708503727","631145010","",""]
[14,"Челябинская область","ММПКХ","7422000570","742201001","",""]
[15,"Челябинская область","МП \"Горэлектросеть\" г.Магнитогорска","7414000093","744401001","",""]
[16,"Челябинская область","МУП \"Многоотраслевое производственное объединение энергосетей\"","7405000450","740501001","",""]
[17,"Челябинская область","МУП \"Производственное объединение водоснабжения и водоотведения\"","7421000440","742150001","",""]
[18,"Челябинская область","МУП \"Санаторий \"Дальняя Дача\"","7422012007","741301001","",""]
[19,"Челябинская область","МУП \"ЧелябГЭТ\" Переименована от (МУП \"Челябгортранс\")","7453222413","745301001","",""]
[20,"Челябинская область","МУП \"Электротепловые сети\"","7418012452","741801001","",""]
[21,"Челябинская область","МУП Копейские электрические сети","7411006837","743001001","",""]
[22,"Челябинская область","Муниципальное предприятие муниципального образования ЗАТО г.Снежинск \"Энергетик","7423000075","742301001","",""]
[23,"Челябинская область","ОАО \"Автомобильный завод \"Урал\"","7415029289","997850001","",""]
[24,"Челябинская область","ОАО \"Ашинский химический завод\"","7401000970","740101001","",""]
[25,"Челябинская область","ОАО \"Вишневогорский горно-обогатительный комбинат\"","7409000147","740901001","",""]
[26,"Челябинская область","ОАО \"Комбинат хлебопродуктов им. Григоровича\"","7453006500","745301001","",""]
[27,"Челябинская область","ОАО \"Кыштымский абразивный завод\"","7413007498","741301001","",""]
[28,"Челябинская область","ОАО \"Магнитогорский металлургический комбинат\"","7414003633","997550001","",""]
[29,"Челябинская область","ОАО \"Магнитогорский метизно-калибровочный завод \"ММК-Метиз\"","7414001428","741450001","",""]
[30,"Челябинская область","ОАО \"Миассэлектроаппарат\"","7415028790","741501001","",""]
[31,"Челябинская область","ОАО \"Победа\"","7453004528","745301001","",""]
[32,"Челябинская область","ОАО \"РосНИТИ\"","7449013537","744901001","",""]
[33,"Челябинская область","ОАО \"Трансэнерго\"","7423023178","745450001","",""]
[34,"Челябинская область","ОАО \"Тургоякское рудоуправление\"","7415004421","741501001","",""]
[35,"Челябинская область","ОАО \"Уралавтоприцеп\"","7450003445","745450001","",""]
[36,"Челябинская область","ОАО \"ЧЗПСН-Профнастил\"","7447014976","744701001","",""]
[37,"Челябинская область","ОАО \"Челябинская электросетевая компания\"","7448057228","744801001","",""]
[38,"Челябинская область","ОАО \"Челябинский автомеханический завод\"","7452001010","745201001","",""]
[39,"Челябинская область","ОАО \"Челябинский часовой завод \"Молния\"","7453006148","745301001","",""]
[40,"Челябинская область","ОАО \"Челябинское авиапредприятие\"","7450003519","745001001","",""]
[41,"Челябинская область","ОАО \"Челябметрострой\"","7453063763","745301001","",""]
[42,"Челябинская область","ОАО \"Электромашина\"","7449016055","744901001","",""]
[43,"Челябинская область","ОАО \"Энергопром-Челябинский Электродный завод\"","7450005001","745001001","",""]
[44,"Челябинская область","ОАО \"Южноуральский завод \"Кристалл\"","7424004900","742401001","",""]
[45,"Челябинская область","ОАО Завод Пластмасс","7411009901","743001001","",""]
[46,"Челябинская область","ОАО ФНПЦ \"Станкомаш\"","7449013664","742150001","",""]
[47,"Челябинская область","ООО \"АЭС Инвест\" (объединена с Областной электросетевой компанией)","7453169760","745301001","",""]
[48,"Челябинская область","ООО \"Альтаир\"","7401011330","740101001","",""]
[49,"Челябинская область","ООО \"Вектор ТК\"","7447202120","744701001","",""]
[50,"Челябинская область","ООО \"Горводоканал\"","7417021422","741701001","",""]
[51,"Челябинская область","ООО \"Единая Коммунальная Компания\"","7451219341","744701001","",""]
[52,"Челябинская область","ООО \"Жилстрой №9\"","7453049127","745101001","",""]
[53,"Челябинская область","ООО \"Завод крупнопанельного домостроения\"","7415039590","741450001","",""]
[54,"Челябинская область","ООО \"КЛЗ\"","7401016314","740101001","",""]
[55,"Челябинская область","ООО \"Каслинская ЭнергоСбытовая Компания\"","7409007833","740901001","",""]
[56,"Челябинская область","ООО \"МИЗ-Энерго\"","7453175629","745301001","",""]
[57,"Челябинская область","ООО \"Медведевский мраморный карьер\"","7434004219","743401001","",""]
[58,"Челябинская область","ООО \"Металлстрой\"","7451080650","745101001","",""]
[59,"Челябинская область","ООО \"МиассЭнергоСтрой\"","7415041790","741501001","",""]
[60,"Челябинская область","ООО \"Миассэнергосервис\"","7415062920","741501001","",""]
[61,"Челябинская область","ООО \"Новосинеглазовский завод строительных материалов\"","7453091834","745101001","",""]
[62,"Челябинская область","ООО \"Объединенная электросетевая компания - Челябинск\"","7453234031","745301001","",""]
[63,"Челябинская область","ООО \"ПСК\"","7404035266","741101001","",""]
[64,"Челябинская область","ООО \"Регионснабсбыт\"","7423009173","745301001","",""]
[65,"Челябинская область","ООО \"Рубин-Энерго\"","7434004113","743401001","",""]
[66,"Челябинская область","ООО \"СИТИ-ПАРК Энерго\"","7452091609","745201001","",""]
[67,"Челябинская область","ООО \"СПЕКТР-ЭЛЕКТРО\"","7447150440","744901001","",""]
[68,"Челябинская область","ООО \"Спецлитье\" Переименована от (ООО\"Златэнерготелеком\")","7404055150","740401001","",""]
[69,"Челябинская область","ООО \"Спецэнергоресурс\"","7453228006","745301001","",""]
[70,"Челябинская область","ООО \"СтройЭнергоМонтаж\" Разделена от (ООО \"Коммет\")","7450076806","745001001","",""]
[71,"Челябинская область","ООО \"ТДК\"","7449109969","744901001","",""]
[72,"Челябинская область","ООО \"ТРЕОЛ\"","7453091721","745301001","",""]
[73,"Челябинская область","ООО \"Тайгинский карьер\"","7447171376","741301001","",""]
[74,"Челябинская область","ООО \"Тепловые электрические сети и системы\"","7450053485","745001001","",""]
[75,"Челябинская область","ООО \"ТранснефтьЭлектросетьСервис\"","6311049306","631101001","",""]
[76,"Челябинская область","ООО \"Трансэнерго\" Разделена от (ООО СК \"Златмаш\")","7404057164","740401001","",""]
[77,"Челябинская область","ООО \"УЗМИ\"","7402004819","740201001","",""]
[78,"Челябинская область","ООО \"Универмаг \"Детский мир\"","7453000185","745301001","",""]
[79,"Челябинская область","ООО \"Управление энергоснабжения и связи\"","7422043968","742201001","",""]
[80,"Челябинская область","ООО \"Урал-Энерго\" переадресация (ОАО \"Челябинский кузнечно-прессовый завод\")","7449093571","744901001","",""]
[81,"Челябинская область","ООО \"УралПром\"","7453094899","744801001","",""]
[82,"Челябинская область","ООО \"Уралвермикулит\"","7413010437","741301001","",""]
[83,"Челябинская область","ООО \"Усть-Катавские электросети\"","7401013987","740101001","",""]
[84,"Челябинская область","ООО \"Фортуна\"","7444042213","744401101","",""]
[85,"Челябинская область","ООО \"ЧТЗ-УРАЛТРАК\" Переименована от (ООО \"Энергия ЧТЗ\")","7452027843","997850001","",""]
[86,"Челябинская область","ООО \"Челябинский завод керамических материалов\"","7452028766","745201001","",""]
[87,"Челябинская область","ООО \"Э-Контакт\"","7449113041","744901001","",""]
[88,"Челябинская область","ООО \"Электро ТК\"","7449111830","744901001","",""]
[89,"Челябинская область","ООО \"Электро-транспорт\"","7447167228","744901001","",""]
[90,"Челябинская область","ООО \"Электросетевая компания\"","7417014880","741701001","",""]
[91,"Челябинская область","ООО \"Электросетевая компания\" г. Екатеринбург","6672303536","667201001","",""]
[92,"Челябинская область","ООО \"Энергосетевая компания Амет\"","7401012158","740101001","",""]
[93,"Челябинская область","ООО \"Энергоснабжающая сетевая компания\"","7453161626","745301001","",""]
[94,"Челябинская область","ООО \"Эффект ТК\"","7449096847","744901001","",""]
[95,"Челябинская область","ООО \"ЮжУРАЛЭнергосталь\"","7449041580","744901001","",""]
[96,"Челябинская область","ООО \"Южноуральская сетевая компания\" Переименована от (Сетевая компания ООО \"Энергия +\")","7424028997","742401001","",""]
[97,"Челябинская область","ООО Механический завод","7412008851","743001001","",""]
[98,"Челябинская область","ООО ПКП \"НикМа\"","7447102862","744701001","",""]
[99,"Челябинская область","ООО ТД \"ХИМПРОДУКТ\"","7451076213","745301001","",""]
[100,"Челябинская область","ООО УК \"Микрорайон Радужный\"","7448160183","744801001","",""]
[101,"Челябинская область","ООО Электросети","7417009898","741701001","",""]
[102,"Челябинская область","Открытое акционерное общество \"Оборонэнерго\" - филиал \"Уральский\"","7704726225","667243001","",""]
[103,"Челябинская область","Открытое акционерное общество Челябинский электрометаллургический комбинат","7447010227","742150001","",""]
[104,"Челябинская область","Приуральский филиал ООО \"Газпром энерго\"","7736186950","027602001","",""]
[105,"Челябинская область","ФГУП  \"Приборостроительный завод\"","7405000428","742150001","",""]
[106,"Челябинская область","ФГУП \"Магнитогорское  авиапредприятие\"","7414001957","744601001","",""]
[107,"Челябинская область","ФГУП \"ПО \"Маяк\"","7422000795","742201001","",""]
[108,"Челябинская область","Филиал ОАО \"Межрегиональная распределительная сетевая компания Урала\"  - \"Челябэнерго\"","6671163413","745102001","",""]
[109,"Челябинская область","Челябинское нефтепроводное управление - филиал ОАО \"Уралсибнефтепровод\"","0278039018","744902001","",""]
[110,"Челябинская область","Южно-Уральская дирекция по энергообеспечению – структурное подразделение Трансэнерго – филиала ОАО «РЖД»","7708503727","745145018","",""]

{"sheet":"modClassifierValidate","index":14,"n_rows":0,"n_cols":0,"rows_kept":0,"cut":false,"hidden":true,"merged":[]}

{"sheet":"modHyp","index":15,"n_rows":0,"n_cols":0,"rows_kept":0,"cut":false,"hidden":true,"merged":[]}

{"sheet":"modList00","index":16,"n_rows":0,"n_cols":0,"rows_kept":0,"cut":false,"hidden":true,"merged":[]}

{"sheet":"modList03","index":17,"n_rows":0,"n_cols":0,"rows_kept":0,"cut":false,"hidden":true,"merged":[]}

{"sheet":"modList04","index":18,"n_rows":0,"n_cols":0,"rows_kept":0,"cut":false,"hidden":true,"merged":[]}

{"sheet":"modInstruction","index":19,"n_rows":0,"n_cols":0,"rows_kept":0,"cut":false,"hidden":true,"merged":[]}

{"sheet":"modUpdTemplMain","index":20,"n_rows":0,"n_cols":0,"rows_kept":0,"cut":false,"hidden":true,"merged":[]}

{"sheet":"modfrmCheckUpdates","index":21,"n_rows":0,"n_cols":0,"rows_kept":0,"cut":false,"hidden":true,"merged":[]}